BEGIN:VCALENDAR
VERSION:2.0
PRODID:-//marlinorchards.com - ECPv6.15.20//NONSGML v1.0//EN
CALSCALE:GREGORIAN
METHOD:PUBLISH
X-ORIGINAL-URL:https://marlinorchards.com
X-WR-CALDESC:Events for marlinorchards.com
REFRESH-INTERVAL;VALUE=DURATION:PT1H
X-Robots-Tag:noindex
X-PUBLISHED-TTL:PT1H
BEGIN:VTIMEZONE
TZID:America/Toronto
BEGIN:DAYLIGHT
TZOFFSETFROM:-0500
TZOFFSETTO:-0400
TZNAME:EDT
DTSTART:20180311T070000
END:DAYLIGHT
BEGIN:STANDARD
TZOFFSETFROM:-0400
TZOFFSETTO:-0500
TZNAME:EST
DTSTART:20181104T060000
END:STANDARD
BEGIN:DAYLIGHT
TZOFFSETFROM:-0500
TZOFFSETTO:-0400
TZNAME:EDT
DTSTART:20190310T070000
END:DAYLIGHT
BEGIN:STANDARD
TZOFFSETFROM:-0400
TZOFFSETTO:-0500
TZNAME:EST
DTSTART:20191103T060000
END:STANDARD
BEGIN:DAYLIGHT
TZOFFSETFROM:-0500
TZOFFSETTO:-0400
TZNAME:EDT
DTSTART:20200308T070000
END:DAYLIGHT
BEGIN:STANDARD
TZOFFSETFROM:-0400
TZOFFSETTO:-0500
TZNAME:EST
DTSTART:20201101T060000
END:STANDARD
BEGIN:DAYLIGHT
TZOFFSETFROM:-0500
TZOFFSETTO:-0400
TZNAME:EDT
DTSTART:20210314T070000
END:DAYLIGHT
BEGIN:STANDARD
TZOFFSETFROM:-0400
TZOFFSETTO:-0500
TZNAME:EST
DTSTART:20211107T060000
END:STANDARD
BEGIN:DAYLIGHT
TZOFFSETFROM:-0500
TZOFFSETTO:-0400
TZNAME:EDT
DTSTART:20220313T070000
END:DAYLIGHT
BEGIN:STANDARD
TZOFFSETFROM:-0400
TZOFFSETTO:-0500
TZNAME:EST
DTSTART:20221106T060000
END:STANDARD
END:VTIMEZONE
BEGIN:VEVENT
DTSTART;TZID=America/Toronto:20191123T110000
DTEND;TZID=America/Toronto:20191123T120000
DTSTAMP:20260421T012707
CREATED:20191105T183629Z
LAST-MODIFIED:20191105T185000Z
UID:1710-1574506800-1574510400@marlinorchards.com
SUMMARY:Christmas Reindeer Workshop - Sat Nov 23 @ 11 am
DESCRIPTION:t’s a DIY workshop! This workshop is working with a small deer that you will fill with fresh greens and berries! It would make a perfect indoor tabletop centerpiece\, or put it outside by your front step as part of your holiday décor! \nCost: $35 + HST \nThe fine print: This workshop will be so much fun! Please bring your own gardening gloves and garden hand pruners. \n*Non-refundable.
URL:https://marlinorchards.com/event/christmas-reindeer-workshop-sat-nov-23-11-am/
LOCATION:Ontario
ATTACH;FMTTYPE=image/jpeg:https://marlinorchards.com/wp-content/uploads/2019/11/IMG_1499-e1572891102159.jpg
END:VEVENT
BEGIN:VEVENT
DTSTART;TZID=America/Toronto:20191123T130000
DTEND;TZID=America/Toronto:20191123T140000
DTSTAMP:20260421T012707
CREATED:20191105T183656Z
LAST-MODIFIED:20191110T195327Z
UID:1717-1574514000-1574517600@marlinorchards.com
SUMMARY:Christmas Tree Workshop - Sat. Nov 23 @ 1 pm
DESCRIPTION:It’s a DIY workshop!  In this workshop\, you will take a metal Christmas tree\, and decorate it with fresh cut greens\, berries and pinecones!  This tree will look great indoors and last several weeks throughout the Holiday Season!  Reuse this tree year after year! \nCost: $65.00 + HST \nThe fine print: This workshop will be so much fun!  Please bring your own gardening gloves and garden hand pruners. \n*Non-refundable.
URL:https://marlinorchards.com/event/christmas-tree-workshop-sat-nov-23-1-pm/
LOCATION:Marlin Orchards & Garden Centre\, 6864 Orchard Road\, Cornwall\, Ontario\, K6H 5R5\, Canada
ATTACH;FMTTYPE=image/jpeg:https://marlinorchards.com/wp-content/uploads/2018/11/IMG_2114-e1541639930506.jpg
END:VEVENT
BEGIN:VEVENT
DTSTART;TZID=America/Toronto:20191124T110000
DTEND;TZID=America/Toronto:20191124T120000
DTSTAMP:20260421T012707
CREATED:20191105T183724Z
LAST-MODIFIED:20191109T171325Z
UID:1727-1574593200-1574596800@marlinorchards.com
SUMMARY:Galvanized Sleigh Workshop - Sun. Nov 24 @ 11 am
DESCRIPTION:It’s a DIY workshop! In this workshop\, you will create a beautiful outdoor arrangement in a galvanized sleigh using fresh cut greens\, berries and more! This arrangement will look fabulous outside your home for the holiday season! \nCost: $75.00 + HST \nThe fine print: This workshop will be so much fun!  Please bring your own gardening gloves and garden hand pruners. \n*Non-refundable.
URL:https://marlinorchards.com/event/galvanized-sleigh-workshop-sun-nov-24-11-am/
LOCATION:Marlin Orchards & Garden Centre\, 6864 Orchard Road\, Cornwall\, Ontario\, K6H 5R5\, Canada
ATTACH;FMTTYPE=image/jpeg:https://marlinorchards.com/wp-content/uploads/2019/11/9eG4RFGRQFuzrv4xsKc5cw-e1573147505914.jpg
END:VEVENT
BEGIN:VEVENT
DTSTART;TZID=America/Toronto:20191124T130000
DTEND;TZID=America/Toronto:20191124T140000
DTSTAMP:20260421T012707
CREATED:20191105T183918Z
LAST-MODIFIED:20191106T184815Z
UID:1723-1574600400-1574604000@marlinorchards.com
SUMMARY:Christmas Urn Insert Workshop - Sun. Nov 24 @ 1 pm
DESCRIPTION:It’s a DIY workshop! In this workshop\, you will create a beautiful outdoor arrangement using fresh cut greens\, berries and more! This arrangement will look fabulous outside your home for the holiday season! \nCost: $60.00 + HST \nThe fine print: This workshop will be so much fun!  Please bring your own gardening gloves and garden hand pruners. \n*Non-refundable.
URL:https://marlinorchards.com/event/christmas-urn-workshop-sun-nov-24-1-pm/
LOCATION:Marlin Orchards & Garden Centre\, 6864 Orchard Road\, Cornwall\, Ontario\, K6H 5R5\, Canada
ATTACH;FMTTYPE=image/jpeg:https://marlinorchards.com/wp-content/uploads/2019/11/LRG_DSC02420.jpeg
END:VEVENT
BEGIN:VEVENT
DTSTART;TZID=America/Toronto:20191130T130000
DTEND;TZID=America/Toronto:20191130T140000
DTSTAMP:20260421T012707
CREATED:20191105T184102Z
LAST-MODIFIED:20191106T184800Z
UID:1725-1575118800-1575122400@marlinorchards.com
SUMMARY:Christmas Urn Insert Workshop - Sat. Nov 30 @ 1 pm
DESCRIPTION:It’s a DIY workshop! In this workshop\, you will create a beautiful outdoor arrangement using fresh cut greens\, berries and more! This arrangement will look fabulous outside your home for the holiday season! \nCost: $60.00 + HST \nThe fine print: This workshop will be so much fun!  Please bring your own gardening gloves and garden hand pruners. \n*Non-refundable.
URL:https://marlinorchards.com/event/christmas-urn-workshop-sat-nov-30-1-pm/
LOCATION:Marlin Orchards & Garden Centre\, 6864 Orchard Road\, Cornwall\, Ontario\, K6H 5R5\, Canada
ATTACH;FMTTYPE=image/jpeg:https://marlinorchards.com/wp-content/uploads/2019/11/LRG_DSC02420.jpeg
END:VEVENT
BEGIN:VEVENT
DTSTART;TZID=America/Toronto:20191207T100000
DTEND;TZID=America/Toronto:20191207T103000
DTSTAMP:20260421T012707
CREATED:20191203T183138Z
LAST-MODIFIED:20191203T214101Z
UID:1849-1575712800-1575714600@marlinorchards.com
SUMMARY:Kids Rudolph Workshop
DESCRIPTION: It’s a DIY workshop for kids! In this workshop\, you will create a small arrangement in a twig Rudolph planter. The perfect decoration for the Holiday Season! This workshop is welcome to children of all ages\, but is recommended for ages 4-8 years. For younger children\, parental supervision may be helpful to complete the arrangement. The workshop will take approximately 20 minutes. \n  \nCost: $20 + HST
URL:https://marlinorchards.com/event/kids-rudolph-workshop/
LOCATION:Marlin Orchards & Garden Centre\, 6864 Orchard Road\, Cornwall\, Ontario\, K6H 5R5\, Canada
ATTACH;FMTTYPE=image/jpeg:https://marlinorchards.com/wp-content/uploads/2019/12/657D0D45-9ABE-458F-9C85-E999473A8CB7.jpeg
END:VEVENT
BEGIN:VEVENT
DTSTART;TZID=America/Toronto:20191208T130000
DTEND;TZID=America/Toronto:20191208T133000
DTSTAMP:20260421T012707
CREATED:20191203T183511Z
LAST-MODIFIED:20191203T183511Z
UID:1855-1575810000-1575811800@marlinorchards.com
SUMMARY:Kids Rudolph Workshop (Sunday)
DESCRIPTION:It’s a DIY workshop for kids! In this workshop\, you will create a small arrangement in a twig Rudolph planter. The perfect decoration for the Holiday Season! This workshop is welcome to children of all ages\, but is recommended for ages 4-8 years. For younger children\, parental supervision may be helpful to complete the arrangement. The workshop will take approximately 20 minutes. \nCost: $20.00 + HST
URL:https://marlinorchards.com/event/kids-rudolph-workshop-sunday/
LOCATION:Marlin Orchards & Garden Centre\, 6864 Orchard Road\, Cornwall\, Ontario\, K6H 5R5\, Canada
ATTACH;FMTTYPE=image/jpeg:https://marlinorchards.com/wp-content/uploads/2019/12/657D0D45-9ABE-458F-9C85-E999473A8CB7.jpeg
END:VEVENT
BEGIN:VEVENT
DTSTART;TZID=America/Toronto:20191215T110000
DTEND;TZID=America/Toronto:20191215T113000
DTSTAMP:20260421T012707
CREATED:20191210T193001Z
LAST-MODIFIED:20191211T181524Z
UID:1925-1576407600-1576409400@marlinorchards.com
SUMMARY:SOLD OUT Kids Rudolph Workshop (Sun\, Dec 15 @ 11 am)
DESCRIPTION:It’s a DIY workshop for kids! In this workshop\, you will create a small arrangement in a twig Rudolph planter. The perfect decoration for the Holiday Season! This workshop is welcome to children of all ages\, but is recommended for ages 4-8 years. For younger children\, parental supervision may be helpful to complete the arrangement. The workshop will take approximately 20 minutes. \nCost: $20.00 + HST
URL:https://marlinorchards.com/event/kids-rudolph-workshop-sun-dec-15-11-am/
LOCATION:Marlin Orchards & Garden Centre\, 6864 Orchard Road\, Cornwall\, Ontario\, K6H 5R5\, Canada
ATTACH;FMTTYPE=image/jpeg:https://marlinorchards.com/wp-content/uploads/2019/12/657D0D45-9ABE-458F-9C85-E999473A8CB7.jpeg
END:VEVENT
BEGIN:VEVENT
DTSTART;TZID=America/Toronto:20191215T130000
DTEND;TZID=America/Toronto:20191215T133000
DTSTAMP:20260421T012707
CREATED:20191209T180323Z
LAST-MODIFIED:20191211T005227Z
UID:1903-1576414800-1576416600@marlinorchards.com
SUMMARY:SOLD OUT Kids Rudolph Workshop (Sunday Dec 15)
DESCRIPTION:It’s a DIY workshop for kids! In this workshop\, you will create a small arrangement in a twig Rudolph planter. The perfect decoration for the Holiday Season! This workshop is welcome to children of all ages\, but is recommended for ages 4-8 years. For younger children\, parental supervision may be helpful to complete the arrangement. The workshop will take approximately 20 minutes. \nCost: $20.00 + HST
URL:https://marlinorchards.com/event/kids-rudolph-workshop-sunday-dec-15/
LOCATION:Marlin Orchards & Garden Centre\, 6864 Orchard Road\, Cornwall\, Ontario\, K6H 5R5\, Canada
ATTACH;FMTTYPE=image/jpeg:https://marlinorchards.com/wp-content/uploads/2019/12/657D0D45-9ABE-458F-9C85-E999473A8CB7.jpeg
END:VEVENT
BEGIN:VEVENT
DTSTART;TZID=America/Toronto:20210327T100000
DTEND;TZID=America/Toronto:20210327T100000
DTSTAMP:20260421T012707
CREATED:20210320T005251Z
LAST-MODIFIED:20210325T195911Z
UID:8363-1616839200-1616839200@marlinorchards.com
SUMMARY:SEMINAR CANCELLED Pruning Seminar - Saturday\, March 27th @ 10 am
DESCRIPTION:Join us in the orchard as we show you the basics of how to prune an apple tree! \nQ&A time as well. \nCOVID-19 protocols are in place during this outdoor event. Registration is required.  Please register for each member of your party (children included) to ensure we stay within our occupancy limit.  Thank you. \n 
URL:https://marlinorchards.com/event/pruning-seminar-saturday-march-27th-10-am/
LOCATION:Ontario
END:VEVENT
BEGIN:VEVENT
DTSTART;TZID=America/Toronto:20210327T130000
DTEND;TZID=America/Toronto:20210327T130000
DTSTAMP:20260421T012707
CREATED:20210320T013536Z
LAST-MODIFIED:20210325T195922Z
UID:8369-1616850000-1616850000@marlinorchards.com
SUMMARY:SEMINAR CANCELLED Pruning Seminar - Saturday\, March 27 @ 1 pm
DESCRIPTION:Join us in the orchard as we show you the basics of how to prune an apple tree! \nQ&A time as well. \nCOVID-19 protocols are in place during this outdoor event. Registration is required.  Please register for each member of your party (children included) to ensure we stay within our occupancy limit.  Thank you. \n 
URL:https://marlinorchards.com/event/pruning-seminar-saturday-march-27-1-pm/
LOCATION:Ontario
END:VEVENT
END:VCALENDAR