BEGIN:VCALENDAR
VERSION:2.0
PRODID:-//marlinorchards.com - ECPv6.15.20//NONSGML v1.0//EN
CALSCALE:GREGORIAN
METHOD:PUBLISH
X-WR-CALNAME:marlinorchards.com
X-ORIGINAL-URL:https://marlinorchards.com
X-WR-CALDESC:Events for marlinorchards.com
REFRESH-INTERVAL;VALUE=DURATION:PT1H
X-Robots-Tag:noindex
X-PUBLISHED-TTL:PT1H
BEGIN:VTIMEZONE
TZID:America/Toronto
BEGIN:DAYLIGHT
TZOFFSETFROM:-0500
TZOFFSETTO:-0400
TZNAME:EDT
DTSTART:20160313T070000
END:DAYLIGHT
BEGIN:STANDARD
TZOFFSETFROM:-0400
TZOFFSETTO:-0500
TZNAME:EST
DTSTART:20161106T060000
END:STANDARD
BEGIN:DAYLIGHT
TZOFFSETFROM:-0500
TZOFFSETTO:-0400
TZNAME:EDT
DTSTART:20170312T070000
END:DAYLIGHT
BEGIN:STANDARD
TZOFFSETFROM:-0400
TZOFFSETTO:-0500
TZNAME:EST
DTSTART:20171105T060000
END:STANDARD
BEGIN:DAYLIGHT
TZOFFSETFROM:-0500
TZOFFSETTO:-0400
TZNAME:EDT
DTSTART:20180311T070000
END:DAYLIGHT
BEGIN:STANDARD
TZOFFSETFROM:-0400
TZOFFSETTO:-0500
TZNAME:EST
DTSTART:20181104T060000
END:STANDARD
END:VTIMEZONE
BEGIN:VEVENT
DTSTART;VALUE=DATE:20171006
DTEND;VALUE=DATE:20171010
DTSTAMP:20260421T045205
CREATED:20170921T224657Z
LAST-MODIFIED:20170921T224657Z
UID:1058-1507320000-1507579199@marlinorchards.com
SUMMARY:Country Harvest Pottery Show
DESCRIPTION:It’s our annual Country Harvest Pottery Sale!  We’ve got 23 artisans coming!  Browse their handcrafted pots\, kitchenware\, art pieces and master pieces.  There will also be live demonstrations of bowl making for the Agape “Empty Bowls” fundraiser!  Free admission – Thanksgiving Weekend\, October 7\, 8 & 9\, from 10 am 5 pm.
URL:https://marlinorchards.com/event/country-harvest-pottery-show-2/
LOCATION:Marlin Orchards & Garden Centre\, 6864 Orchard Road\, Cornwall\, Ontario\, K6H 5R5\, Canada
ATTACH;FMTTYPE=image/jpeg:https://marlinorchards.com/wp-content/uploads/2017/09/IMG_4776.jpg
END:VEVENT
END:VCALENDAR