BEGIN:VCALENDAR
VERSION:2.0
PRODID:-//marlinorchards.com - ECPv6.15.20//NONSGML v1.0//EN
CALSCALE:GREGORIAN
METHOD:PUBLISH
X-WR-CALNAME:marlinorchards.com
X-ORIGINAL-URL:https://marlinorchards.com
X-WR-CALDESC:Events for marlinorchards.com
REFRESH-INTERVAL;VALUE=DURATION:PT1H
X-Robots-Tag:noindex
X-PUBLISHED-TTL:PT1H
BEGIN:VTIMEZONE
TZID:America/Toronto
BEGIN:DAYLIGHT
TZOFFSETFROM:-0500
TZOFFSETTO:-0400
TZNAME:EDT
DTSTART:20180311T070000
END:DAYLIGHT
BEGIN:STANDARD
TZOFFSETFROM:-0400
TZOFFSETTO:-0500
TZNAME:EST
DTSTART:20181104T060000
END:STANDARD
BEGIN:DAYLIGHT
TZOFFSETFROM:-0500
TZOFFSETTO:-0400
TZNAME:EDT
DTSTART:20190310T070000
END:DAYLIGHT
BEGIN:STANDARD
TZOFFSETFROM:-0400
TZOFFSETTO:-0500
TZNAME:EST
DTSTART:20191103T060000
END:STANDARD
BEGIN:DAYLIGHT
TZOFFSETFROM:-0500
TZOFFSETTO:-0400
TZNAME:EDT
DTSTART:20200308T070000
END:DAYLIGHT
BEGIN:STANDARD
TZOFFSETFROM:-0400
TZOFFSETTO:-0500
TZNAME:EST
DTSTART:20201101T060000
END:STANDARD
END:VTIMEZONE
BEGIN:VEVENT
DTSTART;TZID=America/Toronto:20191117T110000
DTEND;TZID=America/Toronto:20191117T120000
DTSTAMP:20260423T121318
CREATED:20191105T183346Z
LAST-MODIFIED:20191109T171027Z
UID:1715-1573988400-1573992000@marlinorchards.com
SUMMARY:Christmas Tree Workshop - Sun Nov 17 @ 11 am
DESCRIPTION:It’s a DIY workshop!  In this workshop\, you will take a metal Christmas tree\, and decorate it with fresh cut greens\, berries and pinecones!  This tree will look great indoors and last several weeks throughout the Holiday Season!  Reuse this tree year after year! \nCost: $65.00 + HST \nThe fine print: This workshop will be so much fun!  Please bring your own gardening gloves and garden hand pruners. \n*Non-refundable.
URL:https://marlinorchards.com/event/christmas-tree-workshop-sun-nov-17-11-am/
LOCATION:Marlin Orchards & Garden Centre\, 6864 Orchard Road\, Cornwall\, Ontario\, K6H 5R5\, Canada
ATTACH;FMTTYPE=image/jpeg:https://marlinorchards.com/wp-content/uploads/2018/11/IMG_2114-e1541639930506.jpg
END:VEVENT
BEGIN:VEVENT
DTSTART;TZID=America/Toronto:20191117T130000
DTEND;TZID=America/Toronto:20191117T140000
DTSTAMP:20260423T121318
CREATED:20191104T155422Z
LAST-MODIFIED:20191109T203108Z
UID:1698-1573995600-1573999200@marlinorchards.com
SUMMARY:*SOLD OUT* Christmas Welcome Basket - Sunday\, Nov. 17 @ 1 pm
DESCRIPTION:*THIS WORKSHOP IS SOLD OUT* \nIt’s a DIY workshop!  In this workshop\, you will be creating a beautiful free-standing basket\, with fresh cut greens\, berries\, balls and pinecones!  This basket has a “Welcome” sign attached to it… perfect by the front door this Holiday Season!  The best part about this sturdy\, metal and coir planter?  It can be re-used year round! \nCost: $75.00 + HST \nThe fine print: This workshop will be so much fun!  Please bring your own gardening gloves and garden hand pruners. \n*Non-refundable.
URL:https://marlinorchards.com/event/christmas-welcome-basket-sunday-nov-17-1-pm/
LOCATION:Marlin Orchards & Garden Centre\, 6864 Orchard Road\, Cornwall\, Ontario\, K6H 5R5\, Canada
ATTACH;FMTTYPE=image/jpeg:https://marlinorchards.com/wp-content/uploads/2018/11/zAumYq1HSn6ItEE8qA7DpQ-e1541638887748.jpg
END:VEVENT
END:VCALENDAR