BEGIN:VCALENDAR
VERSION:2.0
PRODID:-//marlinorchards.com - ECPv6.15.20//NONSGML v1.0//EN
CALSCALE:GREGORIAN
METHOD:PUBLISH
X-WR-CALNAME:marlinorchards.com
X-ORIGINAL-URL:https://marlinorchards.com
X-WR-CALDESC:Events for marlinorchards.com
REFRESH-INTERVAL;VALUE=DURATION:PT1H
X-Robots-Tag:noindex
X-PUBLISHED-TTL:PT1H
BEGIN:VTIMEZONE
TZID:America/Toronto
BEGIN:DAYLIGHT
TZOFFSETFROM:-0500
TZOFFSETTO:-0400
TZNAME:EDT
DTSTART:20180311T070000
END:DAYLIGHT
BEGIN:STANDARD
TZOFFSETFROM:-0400
TZOFFSETTO:-0500
TZNAME:EST
DTSTART:20181104T060000
END:STANDARD
BEGIN:DAYLIGHT
TZOFFSETFROM:-0500
TZOFFSETTO:-0400
TZNAME:EDT
DTSTART:20190310T070000
END:DAYLIGHT
BEGIN:STANDARD
TZOFFSETFROM:-0400
TZOFFSETTO:-0500
TZNAME:EST
DTSTART:20191103T060000
END:STANDARD
BEGIN:DAYLIGHT
TZOFFSETFROM:-0500
TZOFFSETTO:-0400
TZNAME:EDT
DTSTART:20200308T070000
END:DAYLIGHT
BEGIN:STANDARD
TZOFFSETFROM:-0400
TZOFFSETTO:-0500
TZNAME:EST
DTSTART:20201101T060000
END:STANDARD
END:VTIMEZONE
BEGIN:VEVENT
DTSTART;TZID=America/Toronto:20191116T110000
DTEND;TZID=America/Toronto:20191116T120000
DTSTAMP:20260423T121403
CREATED:20191105T183047Z
LAST-MODIFIED:20191105T184606Z
UID:1707-1573902000-1573905600@marlinorchards.com
SUMMARY:Christmas Reindeer Workshop - Sat Nov 16 @ 11 am
DESCRIPTION:t’s a DIY workshop! This workshop is working with a small deer that you will fill with fresh greens and berries! It would make a perfect indoor tabletop centerpiece\, or put it outside by your front step as part of your holiday décor! \nCost: $35 + HST \nThe fine print: This workshop will be so much fun! Please bring your own gardening gloves and garden hand pruners. \n*Non-refundable.
URL:https://marlinorchards.com/event/christmas-reindeer-workshop-sat-nov-16-11-am/
LOCATION:Marlin Orchards & Garden Centre\, 6864 Orchard Road\, Cornwall\, Ontario\, K6H 5R5\, Canada
ATTACH;FMTTYPE=image/jpeg:https://marlinorchards.com/wp-content/uploads/2019/11/IMG_1499-e1572891102159.jpg
END:VEVENT
BEGIN:VEVENT
DTSTART;TZID=America/Toronto:20191116T130000
DTEND;TZID=America/Toronto:20191116T140000
DTSTAMP:20260423T121403
CREATED:20191105T183218Z
LAST-MODIFIED:20191109T171412Z
UID:1719-1573909200-1573912800@marlinorchards.com
SUMMARY:Christmas Urn Insert Workshop - Sat. Nov 16 @ 1 pm
DESCRIPTION:It’s a DIY workshop! In this workshop\, you will create a beautiful outdoor arrangement using fresh cut greens\, berries and more! This arrangement will look fabulous outside your home for the holiday season! \nCost: $60.00 + HST \nThe fine print: This workshop will be so much fun!  Please bring your own gardening gloves and garden hand pruners. \n*Non-refundable.
URL:https://marlinorchards.com/event/christmas-urn-workshop-sat-nov-16-1-pm/
ATTACH;FMTTYPE=image/jpeg:https://marlinorchards.com/wp-content/uploads/2019/11/LRG_DSC02420.jpeg
END:VEVENT
END:VCALENDAR