BEGIN:VCALENDAR
VERSION:2.0
PRODID:-//marlinorchards.com - ECPv6.15.20//NONSGML v1.0//EN
CALSCALE:GREGORIAN
METHOD:PUBLISH
X-ORIGINAL-URL:https://marlinorchards.com
X-WR-CALDESC:Events for marlinorchards.com
REFRESH-INTERVAL;VALUE=DURATION:PT1H
X-Robots-Tag:noindex
X-PUBLISHED-TTL:PT1H
BEGIN:VTIMEZONE
TZID:America/Toronto
BEGIN:DAYLIGHT
TZOFFSETFROM:-0500
TZOFFSETTO:-0400
TZNAME:EDT
DTSTART:20180311T070000
END:DAYLIGHT
BEGIN:STANDARD
TZOFFSETFROM:-0400
TZOFFSETTO:-0500
TZNAME:EST
DTSTART:20181104T060000
END:STANDARD
BEGIN:DAYLIGHT
TZOFFSETFROM:-0500
TZOFFSETTO:-0400
TZNAME:EDT
DTSTART:20190310T070000
END:DAYLIGHT
BEGIN:STANDARD
TZOFFSETFROM:-0400
TZOFFSETTO:-0500
TZNAME:EST
DTSTART:20191103T060000
END:STANDARD
BEGIN:DAYLIGHT
TZOFFSETFROM:-0500
TZOFFSETTO:-0400
TZNAME:EDT
DTSTART:20200308T070000
END:DAYLIGHT
BEGIN:STANDARD
TZOFFSETFROM:-0400
TZOFFSETTO:-0500
TZNAME:EST
DTSTART:20201101T060000
END:STANDARD
END:VTIMEZONE
BEGIN:VEVENT
DTSTART;TZID=America/Toronto:20191012T100000
DTEND;TZID=America/Toronto:20191014T180000
DTSTAMP:20260423T080002
CREATED:20190918T232405Z
LAST-MODIFIED:20190918T232405Z
UID:1688-1570874400-1571076000@marlinorchards.com
SUMMARY:Annual Pottery Sale
DESCRIPTION:Country Harvest Pottery Sale.  Thanksgiving Weekend – October 12\, 13 & 14\, 2019.
URL:https://marlinorchards.com/event/annual-pottery-sale/
LOCATION:Marlin Orchards & Garden Centre\, 6864 Orchard Road\, Cornwall\, Ontario\, K6H 5R5\, Canada
END:VEVENT
END:VCALENDAR