BEGIN:VCALENDAR
VERSION:2.0
PRODID:-//marlinorchards.com - ECPv6.15.20//NONSGML v1.0//EN
CALSCALE:GREGORIAN
METHOD:PUBLISH
X-WR-CALNAME:marlinorchards.com
X-ORIGINAL-URL:https://marlinorchards.com
X-WR-CALDESC:Events for marlinorchards.com
REFRESH-INTERVAL;VALUE=DURATION:PT1H
X-Robots-Tag:noindex
X-PUBLISHED-TTL:PT1H
BEGIN:VTIMEZONE
TZID:America/Toronto
BEGIN:DAYLIGHT
TZOFFSETFROM:-0500
TZOFFSETTO:-0400
TZNAME:EDT
DTSTART:20170312T070000
END:DAYLIGHT
BEGIN:STANDARD
TZOFFSETFROM:-0400
TZOFFSETTO:-0500
TZNAME:EST
DTSTART:20171105T060000
END:STANDARD
BEGIN:DAYLIGHT
TZOFFSETFROM:-0500
TZOFFSETTO:-0400
TZNAME:EDT
DTSTART:20180311T070000
END:DAYLIGHT
BEGIN:STANDARD
TZOFFSETFROM:-0400
TZOFFSETTO:-0500
TZNAME:EST
DTSTART:20181104T060000
END:STANDARD
BEGIN:DAYLIGHT
TZOFFSETFROM:-0500
TZOFFSETTO:-0400
TZNAME:EDT
DTSTART:20190310T070000
END:DAYLIGHT
BEGIN:STANDARD
TZOFFSETFROM:-0400
TZOFFSETTO:-0500
TZNAME:EST
DTSTART:20191103T060000
END:STANDARD
END:VTIMEZONE
BEGIN:VEVENT
DTSTART;TZID=America/Toronto:20181125T110000
DTEND;TZID=America/Toronto:20181125T120000
DTSTAMP:20260420T231507
CREATED:20181106T005936Z
LAST-MODIFIED:20181106T005936Z
UID:1250-1543143600-1543147200@marlinorchards.com
SUMMARY:Christmas Sleigh Workshop - Sun. Nov 25 @ 11 am
DESCRIPTION:It’s a DIY workshop!  Let us help you create a beautiful Christmas sleigh.  In this class\, you will take a traditional wood sleigh and decorate it with fresh cut greens\, berries\, a bow and more!  A great experience and you can enjoy your creation at home for the rest of the season! \nCost: $50.00 + HST \nThe fine print: This workshop will be so much fun!  Please bring your own gardening gloves and garden hand pruners. \n*Non-refundable.
URL:https://marlinorchards.com/event/christmas-sleigh-workshop-sun-nov-25-11-am/
LOCATION:Marlin Orchards & Garden Centre\, 6864 Orchard Road\, Cornwall\, Ontario\, K6H 5R5\, Canada
END:VEVENT
BEGIN:VEVENT
DTSTART;TZID=America/Toronto:20181125T130000
DTEND;TZID=America/Toronto:20181125T140000
DTSTAMP:20260420T231507
CREATED:20181108T012313Z
LAST-MODIFIED:20181118T190806Z
UID:1285-1543150800-1543154400@marlinorchards.com
SUMMARY:Christmas Tree Workshop - Sun. Nov 25 @ 1 pm
DESCRIPTION:It’s a DIY workshop!  In this workshop\, you will take a metal Christmas tree\, and decorate it with fresh cut greens\, berries and pinecones!  This tree will look great indoors and last several weeks throughout the Holiday Season!  Reuse this tree year after year! \nCost: $55.00 + HST \nThe fine print: This workshop will be so much fun!  Please bring your own gardening gloves and garden hand pruners. \n*Non-refundable.
URL:https://marlinorchards.com/event/christmas-tree-workshop-sun-nov-25-1-pm/
LOCATION:Marlin Orchards & Garden Centre\, 6864 Orchard Road\, Cornwall\, Ontario\, K6H 5R5\, Canada
ATTACH;FMTTYPE=image/jpeg:https://marlinorchards.com/wp-content/uploads/2018/11/IMG_2114-e1541639930506.jpg
END:VEVENT
END:VCALENDAR