BEGIN:VCALENDAR
VERSION:2.0
PRODID:-//marlinorchards.com - ECPv6.15.20//NONSGML v1.0//EN
CALSCALE:GREGORIAN
METHOD:PUBLISH
X-ORIGINAL-URL:https://marlinorchards.com
X-WR-CALDESC:Events for marlinorchards.com
REFRESH-INTERVAL;VALUE=DURATION:PT1H
X-Robots-Tag:noindex
X-PUBLISHED-TTL:PT1H
BEGIN:VTIMEZONE
TZID:America/Toronto
BEGIN:DAYLIGHT
TZOFFSETFROM:-0500
TZOFFSETTO:-0400
TZNAME:EDT
DTSTART:20170312T070000
END:DAYLIGHT
BEGIN:STANDARD
TZOFFSETFROM:-0400
TZOFFSETTO:-0500
TZNAME:EST
DTSTART:20171105T060000
END:STANDARD
BEGIN:DAYLIGHT
TZOFFSETFROM:-0500
TZOFFSETTO:-0400
TZNAME:EDT
DTSTART:20180311T070000
END:DAYLIGHT
BEGIN:STANDARD
TZOFFSETFROM:-0400
TZOFFSETTO:-0500
TZNAME:EST
DTSTART:20181104T060000
END:STANDARD
BEGIN:DAYLIGHT
TZOFFSETFROM:-0500
TZOFFSETTO:-0400
TZNAME:EDT
DTSTART:20190310T070000
END:DAYLIGHT
BEGIN:STANDARD
TZOFFSETFROM:-0400
TZOFFSETTO:-0500
TZNAME:EST
DTSTART:20191103T060000
END:STANDARD
END:VTIMEZONE
BEGIN:VEVENT
DTSTART;TZID=America/Toronto:20181103T110000
DTEND;TZID=America/Toronto:20181104T150000
DTSTAMP:20260420T212811
CREATED:20181013T134116Z
LAST-MODIFIED:20181031T000012Z
UID:1123-1541242800-1541343600@marlinorchards.com
SUMMARY:2018 Trunk Sale
DESCRIPTION:It’s the 9th annual Trunk Sale!  Come to the greenhouse and shop over 125 unique vendors!  Come for one day or both and support a great cause!  In support of Rachel’s Kids. \nSaturday\, November 3rd & Sunday\, November 4th from 11 am to 4 pm. \nTicket Info: \n$5 daily pass\n$8 weekend pass\n$10 early bird pass (10 am entrance & limited tickets) \nAll proceeds from ticket sales goes directly to Rachel’s Kids! \nTickets can be purchased in advance or at the door.
URL:https://marlinorchards.com/event/2018-trunk-sale/
END:VEVENT
END:VCALENDAR